BEGIN:VCALENDAR
VERSION:2.0
PRODID:-//Sabre//Sabre VObject 4.5.8//EN
CALSCALE:GREGORIAN
BEGIN:VEVENT
UID:criticalmass-one-achern-1611939600
DTSTAMP:20260423T050604Z
SUMMARY:Critical Mass Achern 29.01.2021
DTSTART;TZID=Europe/Berlin:20210129T180000
DTEND;TZID=Europe/Berlin:20210129T200000
LOCATION:Rathausplatz
URL;VALUE=URI:https://criticalmass.in/achern/2021-01-29
END:VEVENT
END:VCALENDAR
