BEGIN:VCALENDAR
VERSION:2.0
PRODID:-//Sabre//Sabre VObject 4.5.8//EN
CALSCALE:GREGORIAN
BEGIN:VEVENT
UID:criticalmass-one-achern-1606496400
DTSTAMP:20260422T142031Z
SUMMARY:Critical Mass Achern 27.11.2020
DTSTART;TZID=Europe/Berlin:20201127T180000
DTEND;TZID=Europe/Berlin:20201127T200000
LOCATION:Rathausplatz
URL;VALUE=URI:https://criticalmass.in/achern/2020-11-27
END:VEVENT
END:VCALENDAR
