BEGIN:VCALENDAR
VERSION:2.0
PRODID:-//Sabre//Sabre VObject 4.5.8//EN
CALSCALE:GREGORIAN
BEGIN:VEVENT
UID:criticalmass-one-achern-1593187200
DTSTAMP:20260423T155819Z
SUMMARY:Critical Mass Achern 26.06.2020
DTSTART;TZID=Europe/Berlin:20200626T180000
DTEND;TZID=Europe/Berlin:20200626T200000
LOCATION:Rathausplatz
URL;VALUE=URI:https://criticalmass.in/achern/2020-06-26
END:VEVENT
END:VCALENDAR
