BEGIN:VCALENDAR
VERSION:2.0
PRODID:-//Sabre//Sabre VObject 4.5.8//EN
CALSCALE:GREGORIAN
BEGIN:VEVENT
UID:criticalmass-one-achern-1569427200
DTSTAMP:20260422T022137Z
SUMMARY:Premiere: Erste Critical Mass in Achern
DESCRIPTION:Bei unserer Premiere fanden sich 32 Radler/innen ein. Der Regen
  hatte sich verzogen und alle blieben trocken. Eine freundliche Polizeistr
 eife unterstützte uns und hielt für uns an 2 kritischen Querungen den Ve
 rkehr an.
DTSTART;TZID=Europe/Berlin:20190925T180000
DTEND;TZID=Europe/Berlin:20190925T200000
LOCATION:Rathausplatz
GEO:48.628470;8.071829
URL;VALUE=URI:https://criticalmass.in/achern/2019-09-25
END:VEVENT
END:VCALENDAR
