BEGIN:VCALENDAR
VERSION:2.0
PRODID:-//Sabre//Sabre VObject 4.5.8//EN
CALSCALE:GREGORIAN
BEGIN:VEVENT
UID:criticalmass-one-aalen-1714825800
DTSTAMP:20260424T110613Z
SUMMARY:Kidical Mass Aalen 04.05.2024
DESCRIPTION:Treffpunkt 14:30 Uhr auf dem Pausenhof des THG\, Fahrradfest au
 f dem\nRathausplatz Aalen (mit Fahrrad- Codierung\, Verlosung\, Spielmobil
 \,\nHüpfburg\, Aktionen u.v.m.) Grußwort von OB Frederick Brütting un
 d Musik von Veronica Gonzalez\n
DTSTART;TZID=Europe/Berlin:20240504T143000
DTEND;TZID=Europe/Berlin:20240504T163000
LOCATION:Aalen  Schulhof Theodor Heuss Gymnasium\, Friedrichstr. 70\, 73430
  Aalen
GEO:48.841390;10.089990
URL;VALUE=URI:https://criticalmass.in/aalen/kidical-mass-aalen-mai-2024
END:VEVENT
END:VCALENDAR
