BEGIN:VCALENDAR
VERSION:2.0
PRODID:-//Sabre//Sabre VObject 4.5.8//EN
CALSCALE:GREGORIAN
BEGIN:VEVENT
UID:criticalmass-one-aachen-1727006400
DTSTAMP:20260423T190619Z
SUMMARY:Kidical Mass Aachen 22.09.2024
DESCRIPTION:Gemeinsames Schmücken der Räder ab 14 Uhr\nKundgebung Demozug
  von 15 - 16 Uhr\nADFC-Fahrradcodierung von 14-17 Uhr\, alles unter aachen
 .adfc.de/code
DTSTART;TZID=Europe/Berlin:20240922T140000
DTEND;TZID=Europe/Berlin:20240922T160000
LOCATION:Aachen Frankenberger Park
GEO:50.767997;6.103301
URL;VALUE=URI:https://criticalmass.in/aachen/kidical-mass-aachen-september-
 2024
END:VEVENT
END:VCALENDAR
