BEGIN:VCALENDAR
VERSION:2.0
PRODID:-//Sabre//Sabre VObject 4.5.8//EN
CALSCALE:GREGORIAN
BEGIN:VEVENT
UID:criticalmass-one-aachen-1600606800
DTSTAMP:20260425T140439Z
SUMMARY:Kidical Mass Aachen
DTSTART;TZID=Europe/Berlin:20200920T150000
DTEND;TZID=Europe/Berlin:20200920T170000
LOCATION:Neumarkt
GEO:50.768134;6.106088
URL;VALUE=URI:https://criticalmass.in/aachen/kidical-mass-aachen-september-
 2020
END:VEVENT
END:VCALENDAR
