BEGIN:VCALENDAR
VERSION:2.0
PRODID:-//Sabre//Sabre VObject 4.5.8//EN
CALSCALE:GREGORIAN
BEGIN:VEVENT
UID:criticalmass-one-aachen-1747486800
DTSTAMP:20260423T190734Z
SUMMARY:Kidical Mass Aachen 17.05.2025
DESCRIPTION:Fahrradcodierung inkl. Infostand vom ADFC Aachen/Düren\nGemein
 sames Fahrradschmücken ab 14 Uhr
DTSTART;TZID=Europe/Berlin:20250517T150000
DTEND;TZID=Europe/Berlin:20250517T170000
LOCATION:Aachen Büchel (Platz für Demokratie)
GEO:50.776028;6.086891
URL;VALUE=URI:https://criticalmass.in/aachen/kidical-mass-aachen-mai-2025
END:VEVENT
END:VCALENDAR
