BEGIN:VCALENDAR
VERSION:2.0
PRODID:-//Sabre//Sabre VObject 4.5.8//EN
CALSCALE:GREGORIAN
BEGIN:VEVENT
UID:criticalmass-one-aachen-1690560000
DTSTAMP:20260424T232630Z
SUMMARY:Critical Mass Aachen 28.07.2023
DTSTART;TZID=Europe/Berlin:20230728T180000
DTEND;TZID=Europe/Berlin:20230728T200000
LOCATION:Elisenbrunnen
GEO:50.774167;6.086944
URL;VALUE=URI:https://criticalmass.in/aachen/2023-07-28
END:VEVENT
END:VCALENDAR
