BEGIN:VCALENDAR
VERSION:2.0
PRODID:-//Sabre//Sabre VObject 4.5.8//EN
CALSCALE:GREGORIAN
BEGIN:VEVENT
UID:criticalmass-one-aachen-1680278400
DTSTAMP:20260424T092050Z
SUMMARY:Critical Mass Aachen 31.03.2023
DTSTART;TZID=Europe/Berlin:20230331T180000
DTEND;TZID=Europe/Berlin:20230331T200000
LOCATION:Elisenbrunnen
GEO:50.774167;6.086944
URL;VALUE=URI:https://criticalmass.in/aachen/2023-03-31
END:VEVENT
END:VCALENDAR
