BEGIN:VCALENDAR
VERSION:2.0
PRODID:-//Sabre//Sabre VObject 4.5.8//EN
CALSCALE:GREGORIAN
BEGIN:VEVENT
UID:criticalmass-one-aachen-1659110400
DTSTAMP:20260423T232648Z
SUMMARY:Critical Mass Aachen 29.07.2022
DTSTART;TZID=Europe/Berlin:20220729T180000
DTEND;TZID=Europe/Berlin:20220729T200000
LOCATION:Elisenbrunnen
GEO:50.774167;6.086944
URL;VALUE=URI:https://criticalmass.in/aachen/2022-07-29
END:VEVENT
END:VCALENDAR
