BEGIN:VCALENDAR
VERSION:2.0
PRODID:-//Sabre//Sabre VObject 4.5.8//EN
CALSCALE:GREGORIAN
BEGIN:VEVENT
UID:criticalmass-one-aachen-1648227600
DTSTAMP:20260423T234346Z
SUMMARY:Critical Mass Aachen 25.03.2022
DTSTART;TZID=Europe/Berlin:20220325T180000
DTEND;TZID=Europe/Berlin:20220325T200000
LOCATION:Elisenbrunnen
GEO:50.774167;6.086944
URL;VALUE=URI:https://criticalmass.in/aachen/2022-03-25
END:VEVENT
END:VCALENDAR
