BEGIN:VCALENDAR
VERSION:2.0
PRODID:-//Sabre//Sabre VObject 4.5.8//EN
CALSCALE:GREGORIAN
BEGIN:VEVENT
UID:criticalmass-one-aachen-1640970000
DTSTAMP:20260423T232644Z
SUMMARY:Critical Mass Aachen 31.12.2021
DTSTART;TZID=Europe/Berlin:20211231T180000
DTEND;TZID=Europe/Berlin:20211231T200000
LOCATION:Elisenbrunnen
GEO:50.774167;6.086944
URL;VALUE=URI:https://criticalmass.in/aachen/2021-12-31
END:VEVENT
END:VCALENDAR
