BEGIN:VCALENDAR
VERSION:2.0
PRODID:-//Sabre//Sabre VObject 4.5.8//EN
CALSCALE:GREGORIAN
BEGIN:VEVENT
UID:criticalmass-one-aachen-1632499200
DTSTAMP:20260423T154543Z
SUMMARY:Critical Mass Aachen 24.09.2021
DTSTART;TZID=Europe/Berlin:20210924T180000
DTEND;TZID=Europe/Berlin:20210924T200000
LOCATION:Elisenbrunnen
GEO:50.774167;6.086944
URL;VALUE=URI:https://criticalmass.in/aachen/2021-09-24
END:VEVENT
END:VCALENDAR
