BEGIN:VCALENDAR
VERSION:2.0
PRODID:-//Sabre//Sabre VObject 4.5.8//EN
CALSCALE:GREGORIAN
BEGIN:VEVENT
UID:criticalmass-one-aachen-1604077200
DTSTAMP:20260423T110316Z
SUMMARY:Critical Mass Aachen 30.10.2020
DTSTART;TZID=Europe/Berlin:20201030T180000
DTEND;TZID=Europe/Berlin:20201030T200000
LOCATION:Elisenbrunnen
GEO:50.774167;6.086944
URL;VALUE=URI:https://criticalmass.in/aachen/2020-10-30
END:VEVENT
END:VCALENDAR
