BEGIN:VCALENDAR
VERSION:2.0
PRODID:-//Sabre//Sabre VObject 4.5.8//EN
CALSCALE:GREGORIAN
BEGIN:VEVENT
UID:criticalmass-one-aachen-1564156800
DTSTAMP:20260423T063520Z
SUMMARY:Critical Mass Aachen 26.07.2019
DTSTART;TZID=Europe/Berlin:20190726T180000
DTEND;TZID=Europe/Berlin:20190726T200000
LOCATION:Elisenbrunnen
GEO:50.774167;6.086944
URL;VALUE=URI:https://criticalmass.in/aachen/2019-07-26
END:VEVENT
END:VCALENDAR
