BEGIN:VCALENDAR
VERSION:2.0
PRODID:-//Sabre//Sabre VObject 4.5.8//EN
CALSCALE:GREGORIAN
BEGIN:VEVENT
UID:criticalmass-one-aachen-1550854800
DTSTAMP:20260423T100149Z
SUMMARY:Critical Mass Aachen 22.02.2019
DTSTART;TZID=Europe/Berlin:20190222T180000
DTEND;TZID=Europe/Berlin:20190222T200000
LOCATION:Elisenbrunnen
GEO:50.774167;6.086944
URL;VALUE=URI:https://criticalmass.in/aachen/2019-02-22
END:VEVENT
END:VCALENDAR
