BEGIN:VCALENDAR
VERSION:2.0
PRODID:-//Sabre//Sabre VObject 4.5.8//EN
CALSCALE:GREGORIAN
BEGIN:VEVENT
UID:criticalmass-one-aachen-1546016400
DTSTAMP:20260425T151000Z
SUMMARY:Critical Mass Aachen 28.12.2018
DTSTART;TZID=Europe/Berlin:20181228T180000
DTEND;TZID=Europe/Berlin:20181228T200000
LOCATION:Elisenbrunnen
GEO:50.774167;6.086944
URL;VALUE=URI:https://criticalmass.in/aachen/2018-12-28
END:VEVENT
END:VCALENDAR
