BEGIN:VCALENDAR
VERSION:2.0
PRODID:-//Sabre//Sabre VObject 4.5.8//EN
CALSCALE:GREGORIAN
BEGIN:VEVENT
UID:criticalmass-one-aachen-1519405200
DTSTAMP:20260423T110344Z
SUMMARY:Critical Mass Aachen 23.02.2018
DTSTART;TZID=Europe/Berlin:20180223T180000
DTEND;TZID=Europe/Berlin:20180223T200000
LOCATION:Elisenbrunnen
GEO:50.774167;6.086944
URL;VALUE=URI:https://criticalmass.in/aachen/2018-02-23
END:VEVENT
END:VCALENDAR
