BEGIN:VCALENDAR
VERSION:2.0
PRODID:-//Sabre//Sabre VObject 4.5.8//EN
CALSCALE:GREGORIAN
BEGIN:VEVENT
UID:criticalmass-one-aachen-1456506000
DTSTAMP:20260423T013941Z
SUMMARY:Critical Mass Aachen 26.02.2016
DTSTART;TZID=Europe/Berlin:20160226T180000
DTEND;TZID=Europe/Berlin:20160226T200000
LOCATION:Elisenbrunnen
GEO:50.774167;6.086944
URL;VALUE=URI:https://criticalmass.in/aachen/2016-02-26
END:VEVENT
END:VCALENDAR
