BEGIN:VCALENDAR
VERSION:2.0
PRODID:-//Sabre//Sabre VObject 4.5.8//EN
CALSCALE:GREGORIAN
BEGIN:VEVENT
UID:criticalmass-one-aachen-1446224400
DTSTAMP:20260423T110007Z
SUMMARY:Critical Mass Aachen 30.10.2015
DTSTART;TZID=Europe/Berlin:20151030T180000
DTEND;TZID=Europe/Berlin:20151030T200000
LOCATION:Elisenbrunnen
GEO:50.774167;6.086944
URL;VALUE=URI:https://criticalmass.in/aachen/2015-10-30
END:VEVENT
END:VCALENDAR
