BEGIN:VCALENDAR
VERSION:2.0
PRODID:-//Sabre//Sabre VObject 4.5.8//EN
CALSCALE:GREGORIAN
BEGIN:VEVENT
UID:criticalmass-one-aachen-1419613200
DTSTAMP:20260425T180346Z
SUMMARY:Critical Mass Aachen 26.12.2014
DTSTART;TZID=Europe/Berlin:20141226T180000
DTEND;TZID=Europe/Berlin:20141226T200000
LOCATION:Elisenbrunnen
GEO:50.774167;6.086944
URL;VALUE=URI:https://criticalmass.in/aachen/2014-12-26
END:VEVENT
END:VCALENDAR
