BEGIN:VCALENDAR
VERSION:2.0
PRODID:-//Sabre//Sabre VObject 4.5.8//EN
CALSCALE:GREGORIAN
BEGIN:VEVENT
UID:criticalmass-one-aachen-1403884800
DTSTAMP:20260425T033532Z
SUMMARY:Critical Mass Aachen 27.06.2014
DTSTART;TZID=Europe/Berlin:20140627T180000
DTEND;TZID=Europe/Berlin:20140627T200000
LOCATION:Elisenbrunnen
GEO:50.774167;6.086944
URL;VALUE=URI:https://criticalmass.in/aachen/2014-06-27
END:VEVENT
END:VCALENDAR
