BEGIN:VCALENDAR
VERSION:2.0
PRODID:-//Sabre//Sabre VObject 4.5.8//EN
CALSCALE:GREGORIAN
BEGIN:VEVENT
UID:criticalmass-one-aachen-1393606800
DTSTAMP:20260423T203515Z
SUMMARY:Critical Mass Aachen 28.02.2014
DTSTART;TZID=Europe/Berlin:20140228T180000
DTEND;TZID=Europe/Berlin:20140228T200000
LOCATION:Elisenbrunnen
GEO:50.774167;6.086944
URL;VALUE=URI:https://criticalmass.in/aachen/2014-02-28
END:VEVENT
END:VCALENDAR
